BEGIN:VCALENDAR
VERSION:2.0
PRODID:-//EdTrust-Tennessee - ECPv6.15.17//NONSGML v1.0//EN
CALSCALE:GREGORIAN
METHOD:PUBLISH
X-ORIGINAL-URL:https://edtrusttn.org
X-WR-CALDESC:Events for EdTrust-Tennessee
REFRESH-INTERVAL;VALUE=DURATION:PT1H
X-Robots-Tag:noindex
X-PUBLISHED-TTL:PT1H
BEGIN:VTIMEZONE
TZID:America/Chicago
BEGIN:DAYLIGHT
TZOFFSETFROM:-0600
TZOFFSETTO:-0500
TZNAME:CDT
DTSTART:20250309T080000
END:DAYLIGHT
BEGIN:STANDARD
TZOFFSETFROM:-0500
TZOFFSETTO:-0600
TZNAME:CST
DTSTART:20251102T070000
END:STANDARD
BEGIN:DAYLIGHT
TZOFFSETFROM:-0600
TZOFFSETTO:-0500
TZNAME:CDT
DTSTART:20260308T080000
END:DAYLIGHT
BEGIN:STANDARD
TZOFFSETFROM:-0500
TZOFFSETTO:-0600
TZNAME:CST
DTSTART:20261101T070000
END:STANDARD
BEGIN:DAYLIGHT
TZOFFSETFROM:-0600
TZOFFSETTO:-0500
TZNAME:CDT
DTSTART:20270314T080000
END:DAYLIGHT
BEGIN:STANDARD
TZOFFSETFROM:-0500
TZOFFSETTO:-0600
TZNAME:CST
DTSTART:20271107T070000
END:STANDARD
END:VTIMEZONE
BEGIN:VEVENT
DTSTART;TZID=America/Chicago:20260223T133000
DTEND;TZID=America/Chicago:20260223T143000
DTSTAMP:20260425T103100
CREATED:20260219T221015Z
LAST-MODIFIED:20260223T192338Z
UID:10000047-1771853400-1771857000@edtrusttn.org
SUMMARY:Education for All | 2026 Legislative Updates
DESCRIPTION:Register NowLast year\, the Education for All-Tennessee coalition halted the movement of HB793 (Lamberth)/SB836 (Watson)\, a cruel attempt to take away children’s freedom to learn based on who they are and how they came to call Tennessee home. This legislation was designed to challenge Plyler v. Doe\, the landmark Supreme Court decision that has protected every child’s right to learn.  If they succeed in opening challenges to Plyler\, schools nationwide could be forced to deny free public education to all children regardless of their immigration status.  \nNow Tennessee legislators are working to advance HB793/SB836 again\, and they’ve brought backup.    \nLegislators have resumed their coordinated attack on access to public education for Tennessee’s students by pairing HB793/SB836 with a new bill\, HB1711/SB2108. With a proposed amendment\, HB1711/SB2108 would force schools to check the immigration status of every student\, not just immigrant students. \nEnsuring every child has access to quality education strengthens our communities and builds a better society for all of us. That’s why we must keep showing up.  \nIn this webinar\, you’ll learn what these bills mean for students and families\, hear from Ignacia Rodriguez Kmec\, Policy Counsel at the National Immigration Law Center\, on the legal implications and national context of this legislation\, and find out how you can get involved with the Education for All-Tennessee coalition\, including ways to take action with our fellow steering committee members the TN Immigrant & Refugee Rights Coalition\, SOCM\, TN NAACP\, and Tennessee Education Association. 
URL:https://edtrusttn.org/event/education-for-all-2026-legislative-updates/
CATEGORIES:Legislative
ATTACH;FMTTYPE=image/png:https://edtrusttn.org/wp-content/uploads/2025/05/edtrust-tennessee_website_event_tile_1a_lighter.png
END:VEVENT
END:VCALENDAR